BEGIN:VCALENDAR
VERSION:2.0
PRODID:-//The Community Hub - Haringey - ECPv5.16.4//NONSGML v1.0//EN
CALSCALE:GREGORIAN
METHOD:PUBLISH
X-WR-CALNAME:The Community Hub - Haringey
X-ORIGINAL-URL:https://thecommunityhub.org.uk
X-WR-CALDESC:Events for The Community Hub - Haringey
REFRESH-INTERVAL;VALUE=DURATION:PT1H
X-Robots-Tag:noindex
X-PUBLISHED-TTL:PT1H
BEGIN:VTIMEZONE
TZID:Europe/London
BEGIN:DAYLIGHT
TZOFFSETFROM:+0000
TZOFFSETTO:+0100
TZNAME:BST
DTSTART:20220327T010000
END:DAYLIGHT
BEGIN:STANDARD
TZOFFSETFROM:+0100
TZOFFSETTO:+0000
TZNAME:GMT
DTSTART:20221030T010000
END:STANDARD
END:VTIMEZONE
BEGIN:VEVENT
DTSTART;TZID=Europe/London:20220901T100000
DTEND;TZID=Europe/London:20220901T231500
DTSTAMP:20260419T221258
CREATED:20220511T070859Z
LAST-MODIFIED:20220511T070859Z
UID:1406-1662026400-1662074100@thecommunityhub.org.uk
SUMMARY:Yoga with Jude - Thursday
DESCRIPTION:
URL:https://thecommunityhub.org.uk/event/yoga-with-jude-2022-09-01/
LOCATION:The community HUB Haringey\, 8 Caxton Rd\, London\, N22 6TB\, United Kingdom
CATEGORIES:Fitness
END:VEVENT
BEGIN:VEVENT
DTSTART;TZID=Europe/London:20220902T070000
DTEND;TZID=Europe/London:20220902T210000
DTSTAMP:20260419T221258
CREATED:20220511T071156Z
LAST-MODIFIED:20220812T110625Z
UID:1409-1662102000-1662152400@thecommunityhub.org.uk
SUMMARY:Salsa & Ballroom
DESCRIPTION:
URL:https://thecommunityhub.org.uk/event/salsa-ball-room-2022-09-02/
LOCATION:The community HUB Haringey\, 8 Caxton Rd\, London\, N22 6TB\, United Kingdom
CATEGORIES:Fitness
END:VEVENT
BEGIN:VEVENT
DTSTART;TZID=Europe/London:20220903T093000
DTEND;TZID=Europe/London:20220903T120000
DTSTAMP:20260419T221258
CREATED:20220511T071609Z
LAST-MODIFIED:20220511T071609Z
UID:1411-1662197400-1662206400@thecommunityhub.org.uk
SUMMARY:Yoga & Meditation with Ahsan
DESCRIPTION:
URL:https://thecommunityhub.org.uk/event/yoga-meditation-with-ahsan-2022-09-03/
LOCATION:The community HUB Haringey\, 8 Caxton Rd\, London\, N22 6TB\, United Kingdom
CATEGORIES:Fitness
END:VEVENT
BEGIN:VEVENT
DTSTART;TZID=Europe/London:20220905T100000
DTEND;TZID=Europe/London:20220905T111500
DTSTAMP:20260419T221258
CREATED:20211010T181753Z
LAST-MODIFIED:20211010T181753Z
UID:1415-1662372000-1662376500@thecommunityhub.org.uk
SUMMARY:Yoga Class with Jude - Monday
DESCRIPTION:
URL:https://thecommunityhub.org.uk/event/yoga-class-2022-09-05/
LOCATION:The community HUB Haringey\, 8 Caxton Rd\, London\, N22 6TB\, United Kingdom
CATEGORIES:Fitness
END:VEVENT
BEGIN:VEVENT
DTSTART;TZID=Europe/London:20220908T100000
DTEND;TZID=Europe/London:20220908T231500
DTSTAMP:20260419T221258
CREATED:20220511T070859Z
LAST-MODIFIED:20220511T070859Z
UID:1419-1662631200-1662678900@thecommunityhub.org.uk
SUMMARY:Yoga with Jude - Thursday
DESCRIPTION:
URL:https://thecommunityhub.org.uk/event/yoga-with-jude-2022-09-08/
LOCATION:The community HUB Haringey\, 8 Caxton Rd\, London\, N22 6TB\, United Kingdom
CATEGORIES:Fitness
END:VEVENT
BEGIN:VEVENT
DTSTART;TZID=Europe/London:20220909T070000
DTEND;TZID=Europe/London:20220909T210000
DTSTAMP:20260419T221258
CREATED:20220511T071156Z
LAST-MODIFIED:20220812T110625Z
UID:1424-1662706800-1662757200@thecommunityhub.org.uk
SUMMARY:Salsa & Ballroom
DESCRIPTION:
URL:https://thecommunityhub.org.uk/event/salsa-ball-room-2022-09-09/
LOCATION:The community HUB Haringey\, 8 Caxton Rd\, London\, N22 6TB\, United Kingdom
CATEGORIES:Fitness
END:VEVENT
BEGIN:VEVENT
DTSTART;TZID=Europe/London:20220910T093000
DTEND;TZID=Europe/London:20220910T120000
DTSTAMP:20260419T221258
CREATED:20220511T071609Z
LAST-MODIFIED:20220511T071609Z
UID:1426-1662802200-1662811200@thecommunityhub.org.uk
SUMMARY:Yoga & Meditation with Ahsan
DESCRIPTION:
URL:https://thecommunityhub.org.uk/event/yoga-meditation-with-ahsan-2022-09-10/
LOCATION:The community HUB Haringey\, 8 Caxton Rd\, London\, N22 6TB\, United Kingdom
CATEGORIES:Fitness
END:VEVENT
BEGIN:VEVENT
DTSTART;TZID=Europe/London:20220912T100000
DTEND;TZID=Europe/London:20220912T111500
DTSTAMP:20260419T221258
CREATED:20211010T181753Z
LAST-MODIFIED:20211010T181753Z
UID:1502-1662976800-1662981300@thecommunityhub.org.uk
SUMMARY:Yoga Class with Jude - Monday
DESCRIPTION:
URL:https://thecommunityhub.org.uk/event/yoga-class-2022-09-12/
LOCATION:The community HUB Haringey\, 8 Caxton Rd\, London\, N22 6TB\, United Kingdom
CATEGORIES:Fitness
END:VEVENT
BEGIN:VEVENT
DTSTART;TZID=Europe/London:20220915T100000
DTEND;TZID=Europe/London:20220915T231500
DTSTAMP:20260419T221258
CREATED:20220511T070859Z
LAST-MODIFIED:20220511T070859Z
UID:1507-1663236000-1663283700@thecommunityhub.org.uk
SUMMARY:Yoga with Jude - Thursday
DESCRIPTION:
URL:https://thecommunityhub.org.uk/event/yoga-with-jude-2022-09-15/
LOCATION:The community HUB Haringey\, 8 Caxton Rd\, London\, N22 6TB\, United Kingdom
CATEGORIES:Fitness
END:VEVENT
BEGIN:VEVENT
DTSTART;TZID=Europe/London:20220916T070000
DTEND;TZID=Europe/London:20220916T210000
DTSTAMP:20260419T221258
CREATED:20220511T071156Z
LAST-MODIFIED:20220511T071156Z
UID:1509-1663311600-1663362000@thecommunityhub.org.uk
SUMMARY:Salsa & Ballroom
DESCRIPTION:
URL:https://thecommunityhub.org.uk/event/salsa-ball-room-2022-09-16/
LOCATION:The community HUB Haringey\, 8 Caxton Rd\, London\, N22 6TB\, United Kingdom
CATEGORIES:Fitness
END:VEVENT
BEGIN:VEVENT
DTSTART;TZID=Europe/London:20220917T093000
DTEND;TZID=Europe/London:20220917T120000
DTSTAMP:20260419T221258
CREATED:20220511T071609Z
LAST-MODIFIED:20220511T071609Z
UID:1511-1663407000-1663416000@thecommunityhub.org.uk
SUMMARY:Yoga & Meditation with Ahsan
DESCRIPTION:
URL:https://thecommunityhub.org.uk/event/yoga-meditation-with-ahsan-2022-09-17/
LOCATION:The community HUB Haringey\, 8 Caxton Rd\, London\, N22 6TB\, United Kingdom
CATEGORIES:Fitness
END:VEVENT
BEGIN:VEVENT
DTSTART;TZID=Europe/London:20220919T100000
DTEND;TZID=Europe/London:20220919T111500
DTSTAMP:20260419T221258
CREATED:20211010T181753Z
LAST-MODIFIED:20211010T181753Z
UID:1515-1663581600-1663586100@thecommunityhub.org.uk
SUMMARY:Yoga Class with Jude - Monday
DESCRIPTION:
URL:https://thecommunityhub.org.uk/event/yoga-class-2022-09-19/
LOCATION:The community HUB Haringey\, 8 Caxton Rd\, London\, N22 6TB\, United Kingdom
CATEGORIES:Fitness
END:VEVENT
BEGIN:VEVENT
DTSTART;TZID=Europe/London:20220922T100000
DTEND;TZID=Europe/London:20220922T231500
DTSTAMP:20260419T221258
CREATED:20220511T070859Z
LAST-MODIFIED:20220511T070859Z
UID:1520-1663840800-1663888500@thecommunityhub.org.uk
SUMMARY:Yoga with Jude - Thursday
DESCRIPTION:
URL:https://thecommunityhub.org.uk/event/yoga-with-jude-2022-09-22/
LOCATION:The community HUB Haringey\, 8 Caxton Rd\, London\, N22 6TB\, United Kingdom
CATEGORIES:Fitness
END:VEVENT
BEGIN:VEVENT
DTSTART;TZID=Europe/London:20220923T070000
DTEND;TZID=Europe/London:20220923T210000
DTSTAMP:20260419T221258
CREATED:20220511T071156Z
LAST-MODIFIED:20220511T071156Z
UID:1522-1663916400-1663966800@thecommunityhub.org.uk
SUMMARY:Salsa & Ballroom
DESCRIPTION:
URL:https://thecommunityhub.org.uk/event/salsa-ball-room-2022-09-23/
LOCATION:The community HUB Haringey\, 8 Caxton Rd\, London\, N22 6TB\, United Kingdom
CATEGORIES:Fitness
END:VEVENT
BEGIN:VEVENT
DTSTART;TZID=Europe/London:20220924T093000
DTEND;TZID=Europe/London:20220924T120000
DTSTAMP:20260419T221258
CREATED:20220511T071609Z
LAST-MODIFIED:20220511T071609Z
UID:1524-1664011800-1664020800@thecommunityhub.org.uk
SUMMARY:Yoga & Meditation with Ahsan
DESCRIPTION:
URL:https://thecommunityhub.org.uk/event/yoga-meditation-with-ahsan-2022-09-24/
LOCATION:The community HUB Haringey\, 8 Caxton Rd\, London\, N22 6TB\, United Kingdom
CATEGORIES:Fitness
END:VEVENT
BEGIN:VEVENT
DTSTART;TZID=Europe/London:20220926T100000
DTEND;TZID=Europe/London:20220926T111500
DTSTAMP:20260419T221258
CREATED:20211010T181753Z
LAST-MODIFIED:20211010T181753Z
UID:1529-1664186400-1664190900@thecommunityhub.org.uk
SUMMARY:Yoga Class with Jude - Monday
DESCRIPTION:
URL:https://thecommunityhub.org.uk/event/yoga-class-2022-09-26/
LOCATION:The community HUB Haringey\, 8 Caxton Rd\, London\, N22 6TB\, United Kingdom
CATEGORIES:Fitness
END:VEVENT
BEGIN:VEVENT
DTSTART;TZID=Europe/London:20220929T100000
DTEND;TZID=Europe/London:20220929T231500
DTSTAMP:20260419T221258
CREATED:20220511T070859Z
LAST-MODIFIED:20220511T070859Z
UID:1534-1664445600-1664493300@thecommunityhub.org.uk
SUMMARY:Yoga with Jude - Thursday
DESCRIPTION:
URL:https://thecommunityhub.org.uk/event/yoga-with-jude-2022-09-29/
LOCATION:The community HUB Haringey\, 8 Caxton Rd\, London\, N22 6TB\, United Kingdom
CATEGORIES:Fitness
END:VEVENT
BEGIN:VEVENT
DTSTART;TZID=Europe/London:20220930T070000
DTEND;TZID=Europe/London:20220930T210000
DTSTAMP:20260419T221258
CREATED:20220511T071156Z
LAST-MODIFIED:20220511T071156Z
UID:1536-1664521200-1664571600@thecommunityhub.org.uk
SUMMARY:Salsa & Ballroom
DESCRIPTION:
URL:https://thecommunityhub.org.uk/event/salsa-ball-room-2022-09-30/
LOCATION:The community HUB Haringey\, 8 Caxton Rd\, London\, N22 6TB\, United Kingdom
CATEGORIES:Fitness
END:VEVENT
END:VCALENDAR